BEGIN:VCALENDAR
VERSION:2.0
METHOD:PUBLISH
PRODID:-//Telerik Inc.//Sitefinity CMS 14.4//EN
BEGIN:VTIMEZONE
TZID:Eastern Standard Time
BEGIN:STANDARD
DTSTART:20251102T020000
RRULE:FREQ=YEARLY;BYDAY=1SU;BYHOUR=2;BYMINUTE=0;BYMONTH=11
TZNAME:Eastern Standard Time
TZOFFSETFROM:-0400
TZOFFSETTO:-0500
END:STANDARD
BEGIN:DAYLIGHT
DTSTART:20250301T020000
RRULE:FREQ=YEARLY;BYDAY=2SU;BYHOUR=2;BYMINUTE=0;BYMONTH=3
TZNAME:Eastern Daylight Time
TZOFFSETFROM:-0500
TZOFFSETTO:-0400
END:DAYLIGHT
END:VTIMEZONE
BEGIN:VEVENT
DESCRIPTION:A first-of-its-kind rally focused on healthcare worker mental h
 ealth will take place in Washington\, D.C. on Thursday\, May 21\, bringing
  together up to 500 professionals from across the healthcare spectrum. Hos
 ted by FIGS in collaboration with the Dr. Lorna Breen Heroes’ Foundation a
 nd its All In Coalition\, the event aims to elevate awareness and advocacy
  for clinician wellbeing\, including support for the Lorna Breen Health Ca
 re Provider Protection Act. Scheduled from 9 to 11 a.m. Eastern\, the rall
 y underscores a growing national movement to address burnout and mental he
 alth challenges across healthcare professions.Dental professionals from th
 e D.C.\, Maryland\, and Virginia regions are encouraged to participate alo
 ngside peers from medicine\, nursing\, and allied health fields. Organizer
 s note that complimentary scrubs will be provided by FIGS for those who RS
 VP by April 24\, ahead of the 500-person attendance cap. The event represe
 nts a unique opportunity for the dental community to join a broader coalit
 ion of healthcare workers advocating for systemic change and increased sup
 port for mental health across the industry. RSVPs are accepted after April
  24\, but you may have to pick up your scrubs at the event. RSVP to attend
  this event
DTEND:20260521T150000Z
DTSTAMP:20260424T120932Z
DTSTART:20260521T130000Z
LOCATION:
SEQUENCE:0
SUMMARY:Awesome Humans on the Hill (AHOH) Healthcare is Human Rally
UID:RFCALITEM639126293726862319
X-ALT-DESC;FMTTYPE=text/html:<p data-start="0" data-end="668">A first-of-it
 s-kind rally focused on healthcare worker mental health will take place in
  Washington\, D.C. on Thursday\, May 21\, bringing together up to 500 prof
 essionals from across the healthcare spectrum. Hosted by FIGS in collabora
 tion with the Dr. Lorna Breen Heroes’ Foundation and its All In Coalition\
 , the event aims to elevate awareness and advocacy for clinician wellbeing
 \, including support for the Lorna Breen Health Care Provider Protection A
 ct. Scheduled from 9 to 11 a.m. Eastern\, the rally underscores a growing 
 national movement to address burnout and mental health challenges across h
 ealthcare professions.</p><p data-start="670" data-end="1180" data-is-last
 -node="" data-is-only-node="">Dental professionals from the D.C.\, Marylan
 d\, and Virginia regions are encouraged to participate alongside peers fro
 m medicine\, nursing\, and allied health fields. Organizers note that comp
 limentary scrubs will be provided by FIGS for those who RSVP by April 24\,
  ahead of the 500-person attendance cap. The event represents a unique opp
 ortunity for the dental community to join a broader coalition of healthcar
 e workers advocating for systemic change and increased support for mental 
 health across the industry.&nbsp\;<em>RSVPs are accepted after April 24\, 
 but you may have to pick up your scrubs at the event.&nbsp\;</em></p><p da
 ta-start="670" data-end="1180" data-is-last-node="" data-is-only-node=""><
 a href="https://awesomehumans.typeform.com/to/TZLpFYuZ?utm_campaign=PROOF_
 CAMPAIGN_NAME&amp\;utm_medium=email&amp\;utm_source=iterable&amp\;utm_cont
 ent=CONT&amp\;email=asantioni%40wearfigs.com" target="_blank">RSVP to atte
 nd this event</a></p>
END:VEVENT
END:VCALENDAR
